BEGIN:VCALENDAR
VERSION:2.0
PRODID:-//The Presidio (San Francisco) - ECPv6.15.20//NONSGML v1.0//EN
CALSCALE:GREGORIAN
METHOD:PUBLISH
X-WR-CALNAME:The Presidio (San Francisco)
X-ORIGINAL-URL:https://wp.presidio.gov
X-WR-CALDESC:Events for The Presidio (San Francisco)
REFRESH-INTERVAL;VALUE=DURATION:PT1H
X-Robots-Tag:noindex
X-PUBLISHED-TTL:PT1H
BEGIN:VTIMEZONE
TZID:America/Los_Angeles
BEGIN:DAYLIGHT
TZOFFSETFROM:-0800
TZOFFSETTO:-0700
TZNAME:PDT
DTSTART:20280312T100000
END:DAYLIGHT
BEGIN:STANDARD
TZOFFSETFROM:-0700
TZOFFSETTO:-0800
TZNAME:PST
DTSTART:20281105T090000
END:STANDARD
BEGIN:DAYLIGHT
TZOFFSETFROM:-0800
TZOFFSETTO:-0700
TZNAME:PDT
DTSTART:20290311T100000
END:DAYLIGHT
BEGIN:STANDARD
TZOFFSETFROM:-0700
TZOFFSETTO:-0800
TZNAME:PST
DTSTART:20291104T090000
END:STANDARD
BEGIN:DAYLIGHT
TZOFFSETFROM:-0800
TZOFFSETTO:-0700
TZNAME:PDT
DTSTART:20300310T100000
END:DAYLIGHT
BEGIN:STANDARD
TZOFFSETFROM:-0700
TZOFFSETTO:-0800
TZNAME:PST
DTSTART:20301103T090000
END:STANDARD
END:VTIMEZONE
BEGIN:VEVENT
DTSTART;TZID=America/Los_Angeles:20290916T150000
DTEND;TZID=America/Los_Angeles:20290916T153000
DTSTAMP:20260422T164024
CREATED:20251230T173738Z
LAST-MODIFIED:20251230T173738Z
UID:10032052-1884265200-1884267000@wp.presidio.gov
SUMMARY:Park Ranger Campfire Talks
DESCRIPTION:
URL:https://presidio.gov/explore/events/park-ranger-campfire-talks-2/2029-09-16/
END:VEVENT
BEGIN:VEVENT
DTSTART;TZID=America/Los_Angeles:20290917T150000
DTEND;TZID=America/Los_Angeles:20290917T153000
DTSTAMP:20260422T164024
CREATED:20251230T173738Z
LAST-MODIFIED:20251230T173738Z
UID:10032053-1884351600-1884353400@wp.presidio.gov
SUMMARY:Park Ranger Campfire Talks
DESCRIPTION:
URL:https://presidio.gov/explore/events/park-ranger-campfire-talks-2/2029-09-17/
END:VEVENT
BEGIN:VEVENT
DTSTART;TZID=America/Los_Angeles:20290918T150000
DTEND;TZID=America/Los_Angeles:20290918T153000
DTSTAMP:20260422T164024
CREATED:20251230T173738Z
LAST-MODIFIED:20251230T173738Z
UID:10032054-1884438000-1884439800@wp.presidio.gov
SUMMARY:Park Ranger Campfire Talks
DESCRIPTION:
URL:https://presidio.gov/explore/events/park-ranger-campfire-talks-2/2029-09-18/
END:VEVENT
BEGIN:VEVENT
DTSTART;TZID=America/Los_Angeles:20290919T090000
DTEND;TZID=America/Los_Angeles:20290919T120000
DTSTAMP:20260422T164024
CREATED:20230813T135226Z
LAST-MODIFIED:20250703T160021Z
UID:10026339-1884502800-1884513600@wp.presidio.gov
SUMMARY:Volunteer: Presidio Habitat Stewards (Every 3rd Wednesday)
DESCRIPTION:
URL:https://presidio.gov/explore/events/presidio-habitat-stewards-3rd-wednesday/2029-09-19/
ATTACH;FMTTYPE=image/jpeg:https://wp.presidio.gov/wp-content/uploads/2023/07/PRSF_160118_MDu__0570_2x1-1.jpg
END:VEVENT
BEGIN:VEVENT
DTSTART;TZID=America/Los_Angeles:20290919T090000
DTEND;TZID=America/Los_Angeles:20290919T120000
DTSTAMP:20260422T164024
CREATED:20250702T235033Z
LAST-MODIFIED:20251010T232052Z
UID:10029476-1884502800-1884513600@wp.presidio.gov
SUMMARY:Volunteer: San Francisco Habitat Stewards (Every Wednesday)
DESCRIPTION:
URL:https://presidio.gov/explore/events/san-francisco-habitat-stewards-wednesday-2/2029-09-19/
ATTACH;FMTTYPE=image/jpeg:https://wp.presidio.gov/wp-content/uploads/2023/07/ROHI_150119_MDu_1-311.jpg
END:VEVENT
BEGIN:VEVENT
DTSTART;TZID=America/Los_Angeles:20290919T150000
DTEND;TZID=America/Los_Angeles:20290919T153000
DTSTAMP:20260422T164024
CREATED:20251230T173738Z
LAST-MODIFIED:20251230T173738Z
UID:10032055-1884524400-1884526200@wp.presidio.gov
SUMMARY:Park Ranger Campfire Talks
DESCRIPTION:
URL:https://presidio.gov/explore/events/park-ranger-campfire-talks-2/2029-09-19/
END:VEVENT
BEGIN:VEVENT
DTSTART;TZID=America/Los_Angeles:20290920T130000
DTEND;TZID=America/Los_Angeles:20290920T160000
DTSTAMP:20260422T164024
CREATED:20230813T122743Z
LAST-MODIFIED:20251010T232136Z
UID:10030060-1884603600-1884614400@wp.presidio.gov
SUMMARY:Volunteer: San Francisco Habitat Stewards (Every Thursday)
DESCRIPTION:
URL:https://presidio.gov/explore/events/san-francisco-habitat-stewards-saturday/2029-09-20/
END:VEVENT
BEGIN:VEVENT
DTSTART;TZID=America/Los_Angeles:20290920T150000
DTEND;TZID=America/Los_Angeles:20290920T153000
DTSTAMP:20260422T164024
CREATED:20251230T173738Z
LAST-MODIFIED:20251230T173738Z
UID:10032056-1884610800-1884612600@wp.presidio.gov
SUMMARY:Park Ranger Campfire Talks
DESCRIPTION:
URL:https://presidio.gov/explore/events/park-ranger-campfire-talks-2/2029-09-20/
END:VEVENT
BEGIN:VEVENT
DTSTART;TZID=America/Los_Angeles:20290921T090000
DTEND;TZID=America/Los_Angeles:20290921T120000
DTSTAMP:20260422T164024
CREATED:20260110T003535Z
LAST-MODIFIED:20260409T230930Z
UID:10029959-1884675600-1884686400@wp.presidio.gov
SUMMARY:Volunteer: Presidio Forest Stewards (Friday)
DESCRIPTION:
URL:https://presidio.gov/explore/events/presidio-forest-stewards-3/2029-09-21/
END:VEVENT
BEGIN:VEVENT
DTSTART;TZID=America/Los_Angeles:20290921T113000
DTEND;TZID=America/Los_Angeles:20290921T144500
DTSTAMP:20260422T164024
CREATED:20250513T224210Z
LAST-MODIFIED:20251007T222559Z
UID:10027368-1884684600-1884696300@wp.presidio.gov
SUMMARY:Fort Point History Talk
DESCRIPTION:
URL:https://presidio.gov/explore/events/fort-point-history-2-2/2029-09-21/
END:VEVENT
BEGIN:VEVENT
DTSTART;TZID=America/Los_Angeles:20290921T150000
DTEND;TZID=America/Los_Angeles:20290921T153000
DTSTAMP:20260422T164024
CREATED:20251230T173738Z
LAST-MODIFIED:20251230T173738Z
UID:10032057-1884697200-1884699000@wp.presidio.gov
SUMMARY:Park Ranger Campfire Talks
DESCRIPTION:
URL:https://presidio.gov/explore/events/park-ranger-campfire-talks-2/2029-09-21/
END:VEVENT
BEGIN:VEVENT
DTSTART;TZID=America/Los_Angeles:20290922T090000
DTEND;TZID=America/Los_Angeles:20290922T120000
DTSTAMP:20260422T164024
CREATED:20240119T224046Z
LAST-MODIFIED:20260325T213611Z
UID:10026387-1884762000-1884772800@wp.presidio.gov
SUMMARY:Presidio Habitat Stewards (Every Saturday)
DESCRIPTION:
URL:https://presidio.gov/explore/events/presidio-habitat-stewards-every-saturday/2029-09-22/
END:VEVENT
BEGIN:VEVENT
DTSTART;TZID=America/Los_Angeles:20290922T113000
DTEND;TZID=America/Los_Angeles:20290922T144500
DTSTAMP:20260422T164024
CREATED:20250513T224210Z
LAST-MODIFIED:20251007T222559Z
UID:10027369-1884771000-1884782700@wp.presidio.gov
SUMMARY:Fort Point History Talk
DESCRIPTION:
URL:https://presidio.gov/explore/events/fort-point-history-2-2/2029-09-22/
END:VEVENT
BEGIN:VEVENT
DTSTART;TZID=America/Los_Angeles:20290922T150000
DTEND;TZID=America/Los_Angeles:20290922T153000
DTSTAMP:20260422T164024
CREATED:20251230T173738Z
LAST-MODIFIED:20251230T173738Z
UID:10032058-1884783600-1884785400@wp.presidio.gov
SUMMARY:Park Ranger Campfire Talks
DESCRIPTION:
URL:https://presidio.gov/explore/events/park-ranger-campfire-talks-2/2029-09-22/
END:VEVENT
BEGIN:VEVENT
DTSTART;TZID=America/Los_Angeles:20290923T113000
DTEND;TZID=America/Los_Angeles:20290923T144500
DTSTAMP:20260422T164024
CREATED:20250513T224210Z
LAST-MODIFIED:20251007T222559Z
UID:10027370-1884857400-1884869100@wp.presidio.gov
SUMMARY:Fort Point History Talk
DESCRIPTION:
URL:https://presidio.gov/explore/events/fort-point-history-2-2/2029-09-23/
END:VEVENT
BEGIN:VEVENT
DTSTART;TZID=America/Los_Angeles:20290923T150000
DTEND;TZID=America/Los_Angeles:20290923T153000
DTSTAMP:20260422T164024
CREATED:20251230T173738Z
LAST-MODIFIED:20251230T173738Z
UID:10032059-1884870000-1884871800@wp.presidio.gov
SUMMARY:Park Ranger Campfire Talks
DESCRIPTION:
URL:https://presidio.gov/explore/events/park-ranger-campfire-talks-2/2029-09-23/
END:VEVENT
BEGIN:VEVENT
DTSTART;TZID=America/Los_Angeles:20290924T150000
DTEND;TZID=America/Los_Angeles:20290924T153000
DTSTAMP:20260422T164024
CREATED:20251230T173738Z
LAST-MODIFIED:20251230T173738Z
UID:10032060-1884956400-1884958200@wp.presidio.gov
SUMMARY:Park Ranger Campfire Talks
DESCRIPTION:
URL:https://presidio.gov/explore/events/park-ranger-campfire-talks-2/2029-09-24/
END:VEVENT
BEGIN:VEVENT
DTSTART;TZID=America/Los_Angeles:20290925T150000
DTEND;TZID=America/Los_Angeles:20290925T153000
DTSTAMP:20260422T164024
CREATED:20251230T173738Z
LAST-MODIFIED:20251230T173738Z
UID:10032061-1885042800-1885044600@wp.presidio.gov
SUMMARY:Park Ranger Campfire Talks
DESCRIPTION:
URL:https://presidio.gov/explore/events/park-ranger-campfire-talks-2/2029-09-25/
END:VEVENT
BEGIN:VEVENT
DTSTART;TZID=America/Los_Angeles:20290926T090000
DTEND;TZID=America/Los_Angeles:20290926T120000
DTSTAMP:20260422T164024
CREATED:20250702T235033Z
LAST-MODIFIED:20251010T232052Z
UID:10029477-1885107600-1885118400@wp.presidio.gov
SUMMARY:Volunteer: San Francisco Habitat Stewards (Every Wednesday)
DESCRIPTION:
URL:https://presidio.gov/explore/events/san-francisco-habitat-stewards-wednesday-2/2029-09-26/
ATTACH;FMTTYPE=image/jpeg:https://wp.presidio.gov/wp-content/uploads/2023/07/ROHI_150119_MDu_1-311.jpg
END:VEVENT
BEGIN:VEVENT
DTSTART;TZID=America/Los_Angeles:20290926T150000
DTEND;TZID=America/Los_Angeles:20290926T153000
DTSTAMP:20260422T164024
CREATED:20251230T173738Z
LAST-MODIFIED:20251230T173738Z
UID:10032062-1885129200-1885131000@wp.presidio.gov
SUMMARY:Park Ranger Campfire Talks
DESCRIPTION:
URL:https://presidio.gov/explore/events/park-ranger-campfire-talks-2/2029-09-26/
END:VEVENT
BEGIN:VEVENT
DTSTART;TZID=America/Los_Angeles:20290927T130000
DTEND;TZID=America/Los_Angeles:20290927T160000
DTSTAMP:20260422T164024
CREATED:20230813T122743Z
LAST-MODIFIED:20251010T232136Z
UID:10030061-1885208400-1885219200@wp.presidio.gov
SUMMARY:Volunteer: San Francisco Habitat Stewards (Every Thursday)
DESCRIPTION:
URL:https://presidio.gov/explore/events/san-francisco-habitat-stewards-saturday/2029-09-27/
END:VEVENT
BEGIN:VEVENT
DTSTART;TZID=America/Los_Angeles:20290927T150000
DTEND;TZID=America/Los_Angeles:20290927T153000
DTSTAMP:20260422T164024
CREATED:20251230T173738Z
LAST-MODIFIED:20251230T173738Z
UID:10032063-1885215600-1885217400@wp.presidio.gov
SUMMARY:Park Ranger Campfire Talks
DESCRIPTION:
URL:https://presidio.gov/explore/events/park-ranger-campfire-talks-2/2029-09-27/
END:VEVENT
BEGIN:VEVENT
DTSTART;TZID=America/Los_Angeles:20290928T090000
DTEND;TZID=America/Los_Angeles:20290928T120000
DTSTAMP:20260422T164024
CREATED:20260110T003535Z
LAST-MODIFIED:20260409T230930Z
UID:10029960-1885280400-1885291200@wp.presidio.gov
SUMMARY:Volunteer: Presidio Forest Stewards (Friday)
DESCRIPTION:
URL:https://presidio.gov/explore/events/presidio-forest-stewards-3/2029-09-28/
END:VEVENT
BEGIN:VEVENT
DTSTART;TZID=America/Los_Angeles:20290928T113000
DTEND;TZID=America/Los_Angeles:20290928T144500
DTSTAMP:20260422T164024
CREATED:20250513T224210Z
LAST-MODIFIED:20251007T222559Z
UID:10027372-1885289400-1885301100@wp.presidio.gov
SUMMARY:Fort Point History Talk
DESCRIPTION:
URL:https://presidio.gov/explore/events/fort-point-history-2-2/2029-09-28/
END:VEVENT
BEGIN:VEVENT
DTSTART;TZID=America/Los_Angeles:20290928T150000
DTEND;TZID=America/Los_Angeles:20290928T153000
DTSTAMP:20260422T164024
CREATED:20251230T173738Z
LAST-MODIFIED:20251230T173738Z
UID:10032064-1885302000-1885303800@wp.presidio.gov
SUMMARY:Park Ranger Campfire Talks
DESCRIPTION:
URL:https://presidio.gov/explore/events/park-ranger-campfire-talks-2/2029-09-28/
END:VEVENT
BEGIN:VEVENT
DTSTART;TZID=America/Los_Angeles:20290929T090000
DTEND;TZID=America/Los_Angeles:20290929T120000
DTSTAMP:20260422T164024
CREATED:20240119T224046Z
LAST-MODIFIED:20260325T213611Z
UID:10026388-1885366800-1885377600@wp.presidio.gov
SUMMARY:Presidio Habitat Stewards (Every Saturday)
DESCRIPTION:
URL:https://presidio.gov/explore/events/presidio-habitat-stewards-every-saturday/2029-09-29/
END:VEVENT
BEGIN:VEVENT
DTSTART;TZID=America/Los_Angeles:20290929T113000
DTEND;TZID=America/Los_Angeles:20290929T144500
DTSTAMP:20260422T164024
CREATED:20250513T224210Z
LAST-MODIFIED:20251007T222559Z
UID:10027373-1885375800-1885387500@wp.presidio.gov
SUMMARY:Fort Point History Talk
DESCRIPTION:
URL:https://presidio.gov/explore/events/fort-point-history-2-2/2029-09-29/
END:VEVENT
BEGIN:VEVENT
DTSTART;TZID=America/Los_Angeles:20290929T150000
DTEND;TZID=America/Los_Angeles:20290929T153000
DTSTAMP:20260422T164024
CREATED:20251230T173738Z
LAST-MODIFIED:20251230T173738Z
UID:10032065-1885388400-1885390200@wp.presidio.gov
SUMMARY:Park Ranger Campfire Talks
DESCRIPTION:
URL:https://presidio.gov/explore/events/park-ranger-campfire-talks-2/2029-09-29/
END:VEVENT
BEGIN:VEVENT
DTSTART;TZID=America/Los_Angeles:20290930T113000
DTEND;TZID=America/Los_Angeles:20290930T144500
DTSTAMP:20260422T164024
CREATED:20250513T224210Z
LAST-MODIFIED:20251007T222559Z
UID:10027374-1885462200-1885473900@wp.presidio.gov
SUMMARY:Fort Point History Talk
DESCRIPTION:
URL:https://presidio.gov/explore/events/fort-point-history-2-2/2029-09-30/
END:VEVENT
BEGIN:VEVENT
DTSTART;TZID=America/Los_Angeles:20290930T150000
DTEND;TZID=America/Los_Angeles:20290930T153000
DTSTAMP:20260422T164024
CREATED:20251230T173738Z
LAST-MODIFIED:20251230T173738Z
UID:10032066-1885474800-1885476600@wp.presidio.gov
SUMMARY:Park Ranger Campfire Talks
DESCRIPTION:
URL:https://presidio.gov/explore/events/park-ranger-campfire-talks-2/2029-09-30/
END:VEVENT
END:VCALENDAR