BEGIN:VCALENDAR
VERSION:2.0
PRODID:-//The Presidio (San Francisco) - ECPv6.15.20//NONSGML v1.0//EN
CALSCALE:GREGORIAN
METHOD:PUBLISH
X-ORIGINAL-URL:https://wp.presidio.gov
X-WR-CALDESC:Events for The Presidio (San Francisco)
REFRESH-INTERVAL;VALUE=DURATION:PT1H
X-Robots-Tag:noindex
X-PUBLISHED-TTL:PT1H
BEGIN:VTIMEZONE
TZID:America/Los_Angeles
BEGIN:DAYLIGHT
TZOFFSETFROM:-0800
TZOFFSETTO:-0700
TZNAME:PDT
DTSTART:20280312T100000
END:DAYLIGHT
BEGIN:STANDARD
TZOFFSETFROM:-0700
TZOFFSETTO:-0800
TZNAME:PST
DTSTART:20281105T090000
END:STANDARD
BEGIN:DAYLIGHT
TZOFFSETFROM:-0800
TZOFFSETTO:-0700
TZNAME:PDT
DTSTART:20290311T100000
END:DAYLIGHT
BEGIN:STANDARD
TZOFFSETFROM:-0700
TZOFFSETTO:-0800
TZNAME:PST
DTSTART:20291104T090000
END:STANDARD
BEGIN:DAYLIGHT
TZOFFSETFROM:-0800
TZOFFSETTO:-0700
TZNAME:PDT
DTSTART:20300310T100000
END:DAYLIGHT
BEGIN:STANDARD
TZOFFSETFROM:-0700
TZOFFSETTO:-0800
TZNAME:PST
DTSTART:20301103T090000
END:STANDARD
END:VTIMEZONE
BEGIN:VEVENT
DTSTART;TZID=America/Los_Angeles:20291027T090000
DTEND;TZID=America/Los_Angeles:20291027T120000
DTSTAMP:20260424T190455
CREATED:20240119T224046Z
LAST-MODIFIED:20260325T213611Z
UID:10026392-1887786000-1887796800@wp.presidio.gov
SUMMARY:Presidio Habitat Stewards (Every Saturday)
DESCRIPTION:
URL:https://presidio.gov/explore/events/presidio-habitat-stewards-every-saturday/2029-10-27/
END:VEVENT
BEGIN:VEVENT
DTSTART;TZID=America/Los_Angeles:20291027T113000
DTEND;TZID=America/Los_Angeles:20291027T144500
DTSTAMP:20260424T190455
CREATED:20250513T224210Z
LAST-MODIFIED:20251007T222559Z
UID:10027389-1887795000-1887806700@wp.presidio.gov
SUMMARY:Fort Point History Talk
DESCRIPTION:
URL:https://presidio.gov/explore/events/fort-point-history-2-2/2029-10-27/
END:VEVENT
BEGIN:VEVENT
DTSTART;TZID=America/Los_Angeles:20291027T150000
DTEND;TZID=America/Los_Angeles:20291027T153000
DTSTAMP:20260424T190455
CREATED:20251230T173738Z
LAST-MODIFIED:20251230T173738Z
UID:10032093-1887807600-1887809400@wp.presidio.gov
SUMMARY:Park Ranger Campfire Talks
DESCRIPTION:
URL:https://presidio.gov/explore/events/park-ranger-campfire-talks-2/2029-10-27/
END:VEVENT
BEGIN:VEVENT
DTSTART;TZID=America/Los_Angeles:20291028T113000
DTEND;TZID=America/Los_Angeles:20291028T144500
DTSTAMP:20260424T190455
CREATED:20250513T224210Z
LAST-MODIFIED:20251007T222559Z
UID:10027390-1887881400-1887893100@wp.presidio.gov
SUMMARY:Fort Point History Talk
DESCRIPTION:
URL:https://presidio.gov/explore/events/fort-point-history-2-2/2029-10-28/
END:VEVENT
BEGIN:VEVENT
DTSTART;TZID=America/Los_Angeles:20291028T150000
DTEND;TZID=America/Los_Angeles:20291028T153000
DTSTAMP:20260424T190455
CREATED:20251230T173738Z
LAST-MODIFIED:20251230T173738Z
UID:10032094-1887894000-1887895800@wp.presidio.gov
SUMMARY:Park Ranger Campfire Talks
DESCRIPTION:
URL:https://presidio.gov/explore/events/park-ranger-campfire-talks-2/2029-10-28/
END:VEVENT
BEGIN:VEVENT
DTSTART;TZID=America/Los_Angeles:20291029T150000
DTEND;TZID=America/Los_Angeles:20291029T153000
DTSTAMP:20260424T190455
CREATED:20251230T173738Z
LAST-MODIFIED:20251230T173738Z
UID:10032095-1887980400-1887982200@wp.presidio.gov
SUMMARY:Park Ranger Campfire Talks
DESCRIPTION:
URL:https://presidio.gov/explore/events/park-ranger-campfire-talks-2/2029-10-29/
END:VEVENT
BEGIN:VEVENT
DTSTART;TZID=America/Los_Angeles:20291030T150000
DTEND;TZID=America/Los_Angeles:20291030T153000
DTSTAMP:20260424T190455
CREATED:20251230T173738Z
LAST-MODIFIED:20251230T173738Z
UID:10032096-1888066800-1888068600@wp.presidio.gov
SUMMARY:Park Ranger Campfire Talks
DESCRIPTION:
URL:https://presidio.gov/explore/events/park-ranger-campfire-talks-2/2029-10-30/
END:VEVENT
BEGIN:VEVENT
DTSTART;TZID=America/Los_Angeles:20291031T090000
DTEND;TZID=America/Los_Angeles:20291031T120000
DTSTAMP:20260424T190455
CREATED:20250702T235033Z
LAST-MODIFIED:20251010T232052Z
UID:10029482-1888131600-1888142400@wp.presidio.gov
SUMMARY:Volunteer: San Francisco Habitat Stewards (Every Wednesday)
DESCRIPTION:
URL:https://presidio.gov/explore/events/san-francisco-habitat-stewards-wednesday-2/2029-10-31/
ATTACH;FMTTYPE=image/jpeg:https://wp.presidio.gov/wp-content/uploads/2023/07/ROHI_150119_MDu_1-311.jpg
END:VEVENT
BEGIN:VEVENT
DTSTART;TZID=America/Los_Angeles:20291031T150000
DTEND;TZID=America/Los_Angeles:20291031T153000
DTSTAMP:20260424T190455
CREATED:20251230T173738Z
LAST-MODIFIED:20251230T173738Z
UID:10032097-1888153200-1888155000@wp.presidio.gov
SUMMARY:Park Ranger Campfire Talks
DESCRIPTION:
URL:https://presidio.gov/explore/events/park-ranger-campfire-talks-2/2029-10-31/
END:VEVENT
BEGIN:VEVENT
DTSTART;TZID=America/Los_Angeles:20291101T130000
DTEND;TZID=America/Los_Angeles:20291101T160000
DTSTAMP:20260424T190455
CREATED:20230813T122743Z
LAST-MODIFIED:20251010T232136Z
UID:10030066-1888232400-1888243200@wp.presidio.gov
SUMMARY:Volunteer: San Francisco Habitat Stewards (Every Thursday)
DESCRIPTION:
URL:https://presidio.gov/explore/events/san-francisco-habitat-stewards-saturday/2029-11-01/
END:VEVENT
BEGIN:VEVENT
DTSTART;TZID=America/Los_Angeles:20291101T150000
DTEND;TZID=America/Los_Angeles:20291101T153000
DTSTAMP:20260424T190455
CREATED:20251230T173738Z
LAST-MODIFIED:20251230T173738Z
UID:10032098-1888239600-1888241400@wp.presidio.gov
SUMMARY:Park Ranger Campfire Talks
DESCRIPTION:
URL:https://presidio.gov/explore/events/park-ranger-campfire-talks-2/2029-11-01/
END:VEVENT
BEGIN:VEVENT
DTSTART;TZID=America/Los_Angeles:20291102T090000
DTEND;TZID=America/Los_Angeles:20291102T120000
DTSTAMP:20260424T190455
CREATED:20260110T003535Z
LAST-MODIFIED:20260409T230930Z
UID:10029965-1888304400-1888315200@wp.presidio.gov
SUMMARY:Volunteer: Presidio Forest Stewards (Friday)
DESCRIPTION:
URL:https://presidio.gov/explore/events/presidio-forest-stewards-3/2029-11-02/
END:VEVENT
BEGIN:VEVENT
DTSTART;TZID=America/Los_Angeles:20291102T113000
DTEND;TZID=America/Los_Angeles:20291102T144500
DTSTAMP:20260424T190455
CREATED:20250513T224210Z
LAST-MODIFIED:20251007T222559Z
UID:10027392-1888313400-1888325100@wp.presidio.gov
SUMMARY:Fort Point History Talk
DESCRIPTION:
URL:https://presidio.gov/explore/events/fort-point-history-2-2/2029-11-02/
END:VEVENT
BEGIN:VEVENT
DTSTART;TZID=America/Los_Angeles:20291102T150000
DTEND;TZID=America/Los_Angeles:20291102T153000
DTSTAMP:20260424T190455
CREATED:20251230T173738Z
LAST-MODIFIED:20251230T173738Z
UID:10032099-1888326000-1888327800@wp.presidio.gov
SUMMARY:Park Ranger Campfire Talks
DESCRIPTION:
URL:https://presidio.gov/explore/events/park-ranger-campfire-talks-2/2029-11-02/
END:VEVENT
BEGIN:VEVENT
DTSTART;TZID=America/Los_Angeles:20291103T090000
DTEND;TZID=America/Los_Angeles:20291103T120000
DTSTAMP:20260424T190455
CREATED:20240119T224046Z
LAST-MODIFIED:20260325T213611Z
UID:10026393-1888390800-1888401600@wp.presidio.gov
SUMMARY:Presidio Habitat Stewards (Every Saturday)
DESCRIPTION:
URL:https://presidio.gov/explore/events/presidio-habitat-stewards-every-saturday/2029-11-03/
END:VEVENT
BEGIN:VEVENT
DTSTART;TZID=America/Los_Angeles:20291103T113000
DTEND;TZID=America/Los_Angeles:20291103T144500
DTSTAMP:20260424T190455
CREATED:20250513T224210Z
LAST-MODIFIED:20251007T222559Z
UID:10027393-1888399800-1888411500@wp.presidio.gov
SUMMARY:Fort Point History Talk
DESCRIPTION:
URL:https://presidio.gov/explore/events/fort-point-history-2-2/2029-11-03/
END:VEVENT
BEGIN:VEVENT
DTSTART;TZID=America/Los_Angeles:20291103T150000
DTEND;TZID=America/Los_Angeles:20291103T153000
DTSTAMP:20260424T190455
CREATED:20251230T173738Z
LAST-MODIFIED:20251230T173738Z
UID:10032100-1888412400-1888414200@wp.presidio.gov
SUMMARY:Park Ranger Campfire Talks
DESCRIPTION:
URL:https://presidio.gov/explore/events/park-ranger-campfire-talks-2/2029-11-03/
END:VEVENT
BEGIN:VEVENT
DTSTART;TZID=America/Los_Angeles:20291104T113000
DTEND;TZID=America/Los_Angeles:20291104T144500
DTSTAMP:20260424T190455
CREATED:20250513T224210Z
LAST-MODIFIED:20251007T222559Z
UID:10027394-1888486200-1888497900@wp.presidio.gov
SUMMARY:Fort Point History Talk
DESCRIPTION:
URL:https://presidio.gov/explore/events/fort-point-history-2-2/2029-11-04/
END:VEVENT
BEGIN:VEVENT
DTSTART;TZID=America/Los_Angeles:20291104T150000
DTEND;TZID=America/Los_Angeles:20291104T153000
DTSTAMP:20260424T190455
CREATED:20251230T173738Z
LAST-MODIFIED:20251230T173738Z
UID:10032101-1888498800-1888500600@wp.presidio.gov
SUMMARY:Park Ranger Campfire Talks
DESCRIPTION:
URL:https://presidio.gov/explore/events/park-ranger-campfire-talks-2/2029-11-04/
END:VEVENT
BEGIN:VEVENT
DTSTART;TZID=America/Los_Angeles:20291105T150000
DTEND;TZID=America/Los_Angeles:20291105T153000
DTSTAMP:20260424T190455
CREATED:20251230T173738Z
LAST-MODIFIED:20251230T173738Z
UID:10032102-1888585200-1888587000@wp.presidio.gov
SUMMARY:Park Ranger Campfire Talks
DESCRIPTION:
URL:https://presidio.gov/explore/events/park-ranger-campfire-talks-2/2029-11-05/
END:VEVENT
BEGIN:VEVENT
DTSTART;TZID=America/Los_Angeles:20291106T150000
DTEND;TZID=America/Los_Angeles:20291106T153000
DTSTAMP:20260424T190455
CREATED:20251230T173738Z
LAST-MODIFIED:20251230T173738Z
UID:10032103-1888671600-1888673400@wp.presidio.gov
SUMMARY:Park Ranger Campfire Talks
DESCRIPTION:
URL:https://presidio.gov/explore/events/park-ranger-campfire-talks-2/2029-11-06/
END:VEVENT
BEGIN:VEVENT
DTSTART;TZID=America/Los_Angeles:20291107T090000
DTEND;TZID=America/Los_Angeles:20291107T120000
DTSTAMP:20260424T190455
CREATED:20250702T235033Z
LAST-MODIFIED:20251010T232052Z
UID:10029483-1888736400-1888747200@wp.presidio.gov
SUMMARY:Volunteer: San Francisco Habitat Stewards (Every Wednesday)
DESCRIPTION:
URL:https://presidio.gov/explore/events/san-francisco-habitat-stewards-wednesday-2/2029-11-07/
ATTACH;FMTTYPE=image/jpeg:https://wp.presidio.gov/wp-content/uploads/2023/07/ROHI_150119_MDu_1-311.jpg
END:VEVENT
BEGIN:VEVENT
DTSTART;TZID=America/Los_Angeles:20291107T150000
DTEND;TZID=America/Los_Angeles:20291107T153000
DTSTAMP:20260424T190455
CREATED:20251230T173738Z
LAST-MODIFIED:20251230T173738Z
UID:10032104-1888758000-1888759800@wp.presidio.gov
SUMMARY:Park Ranger Campfire Talks
DESCRIPTION:
URL:https://presidio.gov/explore/events/park-ranger-campfire-talks-2/2029-11-07/
END:VEVENT
BEGIN:VEVENT
DTSTART;TZID=America/Los_Angeles:20291108T130000
DTEND;TZID=America/Los_Angeles:20291108T160000
DTSTAMP:20260424T190455
CREATED:20230813T122743Z
LAST-MODIFIED:20251010T232136Z
UID:10030067-1888837200-1888848000@wp.presidio.gov
SUMMARY:Volunteer: San Francisco Habitat Stewards (Every Thursday)
DESCRIPTION:
URL:https://presidio.gov/explore/events/san-francisco-habitat-stewards-saturday/2029-11-08/
END:VEVENT
BEGIN:VEVENT
DTSTART;TZID=America/Los_Angeles:20291108T150000
DTEND;TZID=America/Los_Angeles:20291108T153000
DTSTAMP:20260424T190455
CREATED:20251230T173738Z
LAST-MODIFIED:20251230T173738Z
UID:10032105-1888844400-1888846200@wp.presidio.gov
SUMMARY:Park Ranger Campfire Talks
DESCRIPTION:
URL:https://presidio.gov/explore/events/park-ranger-campfire-talks-2/2029-11-08/
END:VEVENT
BEGIN:VEVENT
DTSTART;TZID=America/Los_Angeles:20291109T090000
DTEND;TZID=America/Los_Angeles:20291109T120000
DTSTAMP:20260424T190455
CREATED:20260110T003535Z
LAST-MODIFIED:20260409T230930Z
UID:10029966-1888909200-1888920000@wp.presidio.gov
SUMMARY:Volunteer: Presidio Forest Stewards (Friday)
DESCRIPTION:
URL:https://presidio.gov/explore/events/presidio-forest-stewards-3/2029-11-09/
END:VEVENT
BEGIN:VEVENT
DTSTART;TZID=America/Los_Angeles:20291109T113000
DTEND;TZID=America/Los_Angeles:20291109T144500
DTSTAMP:20260424T190455
CREATED:20250513T224210Z
LAST-MODIFIED:20251007T222559Z
UID:10027396-1888918200-1888929900@wp.presidio.gov
SUMMARY:Fort Point History Talk
DESCRIPTION:
URL:https://presidio.gov/explore/events/fort-point-history-2-2/2029-11-09/
END:VEVENT
BEGIN:VEVENT
DTSTART;TZID=America/Los_Angeles:20291109T150000
DTEND;TZID=America/Los_Angeles:20291109T153000
DTSTAMP:20260424T190455
CREATED:20251230T173738Z
LAST-MODIFIED:20251230T173738Z
UID:10032106-1888930800-1888932600@wp.presidio.gov
SUMMARY:Park Ranger Campfire Talks
DESCRIPTION:
URL:https://presidio.gov/explore/events/park-ranger-campfire-talks-2/2029-11-09/
END:VEVENT
BEGIN:VEVENT
DTSTART;TZID=America/Los_Angeles:20291110T090000
DTEND;TZID=America/Los_Angeles:20291110T120000
DTSTAMP:20260424T190455
CREATED:20240119T224046Z
LAST-MODIFIED:20260325T213611Z
UID:10026394-1888995600-1889006400@wp.presidio.gov
SUMMARY:Presidio Habitat Stewards (Every Saturday)
DESCRIPTION:
URL:https://presidio.gov/explore/events/presidio-habitat-stewards-every-saturday/2029-11-10/
END:VEVENT
BEGIN:VEVENT
DTSTART;TZID=America/Los_Angeles:20291110T113000
DTEND;TZID=America/Los_Angeles:20291110T144500
DTSTAMP:20260424T190455
CREATED:20250513T224210Z
LAST-MODIFIED:20251007T222559Z
UID:10027397-1889004600-1889016300@wp.presidio.gov
SUMMARY:Fort Point History Talk
DESCRIPTION:
URL:https://presidio.gov/explore/events/fort-point-history-2-2/2029-11-10/
END:VEVENT
END:VCALENDAR