BEGIN:VCALENDAR
VERSION:2.0
PRODID:-//The Presidio (San Francisco) - ECPv6.15.20//NONSGML v1.0//EN
CALSCALE:GREGORIAN
METHOD:PUBLISH
X-ORIGINAL-URL:https://wp.presidio.gov
X-WR-CALDESC:Events for The Presidio (San Francisco)
REFRESH-INTERVAL;VALUE=DURATION:PT1H
X-Robots-Tag:noindex
X-PUBLISHED-TTL:PT1H
BEGIN:VTIMEZONE
TZID:America/Los_Angeles
BEGIN:DAYLIGHT
TZOFFSETFROM:-0800
TZOFFSETTO:-0700
TZNAME:PDT
DTSTART:20280312T100000
END:DAYLIGHT
BEGIN:STANDARD
TZOFFSETFROM:-0700
TZOFFSETTO:-0800
TZNAME:PST
DTSTART:20281105T090000
END:STANDARD
BEGIN:DAYLIGHT
TZOFFSETFROM:-0800
TZOFFSETTO:-0700
TZNAME:PDT
DTSTART:20290311T100000
END:DAYLIGHT
BEGIN:STANDARD
TZOFFSETFROM:-0700
TZOFFSETTO:-0800
TZNAME:PST
DTSTART:20291104T090000
END:STANDARD
BEGIN:DAYLIGHT
TZOFFSETFROM:-0800
TZOFFSETTO:-0700
TZNAME:PDT
DTSTART:20300310T100000
END:DAYLIGHT
BEGIN:STANDARD
TZOFFSETFROM:-0700
TZOFFSETTO:-0800
TZNAME:PST
DTSTART:20301103T090000
END:STANDARD
END:VTIMEZONE
BEGIN:VEVENT
DTSTART;TZID=America/Los_Angeles:20291011T130000
DTEND;TZID=America/Los_Angeles:20291011T160000
DTSTAMP:20260423T082924
CREATED:20230813T122743Z
LAST-MODIFIED:20251010T232136Z
UID:10030063-1886418000-1886428800@wp.presidio.gov
SUMMARY:Volunteer: San Francisco Habitat Stewards (Every Thursday)
DESCRIPTION:
URL:https://presidio.gov/explore/events/san-francisco-habitat-stewards-saturday/2029-10-11/
END:VEVENT
BEGIN:VEVENT
DTSTART;TZID=America/Los_Angeles:20291011T150000
DTEND;TZID=America/Los_Angeles:20291011T153000
DTSTAMP:20260423T082924
CREATED:20251230T173738Z
LAST-MODIFIED:20251230T173738Z
UID:10032077-1886425200-1886427000@wp.presidio.gov
SUMMARY:Park Ranger Campfire Talks
DESCRIPTION:
URL:https://presidio.gov/explore/events/park-ranger-campfire-talks-2/2029-10-11/
END:VEVENT
BEGIN:VEVENT
DTSTART;TZID=America/Los_Angeles:20291012T090000
DTEND;TZID=America/Los_Angeles:20291012T120000
DTSTAMP:20260423T082924
CREATED:20260110T003535Z
LAST-MODIFIED:20260409T230930Z
UID:10029962-1886490000-1886500800@wp.presidio.gov
SUMMARY:Volunteer: Presidio Forest Stewards (Friday)
DESCRIPTION:
URL:https://presidio.gov/explore/events/presidio-forest-stewards-3/2029-10-12/
END:VEVENT
BEGIN:VEVENT
DTSTART;TZID=America/Los_Angeles:20291012T113000
DTEND;TZID=America/Los_Angeles:20291012T144500
DTSTAMP:20260423T082924
CREATED:20250513T224210Z
LAST-MODIFIED:20251007T222559Z
UID:10027380-1886499000-1886510700@wp.presidio.gov
SUMMARY:Fort Point History Talk
DESCRIPTION:
URL:https://presidio.gov/explore/events/fort-point-history-2-2/2029-10-12/
END:VEVENT
BEGIN:VEVENT
DTSTART;TZID=America/Los_Angeles:20291012T150000
DTEND;TZID=America/Los_Angeles:20291012T153000
DTSTAMP:20260423T082924
CREATED:20251230T173738Z
LAST-MODIFIED:20251230T173738Z
UID:10032078-1886511600-1886513400@wp.presidio.gov
SUMMARY:Park Ranger Campfire Talks
DESCRIPTION:
URL:https://presidio.gov/explore/events/park-ranger-campfire-talks-2/2029-10-12/
END:VEVENT
BEGIN:VEVENT
DTSTART;TZID=America/Los_Angeles:20291013T090000
DTEND;TZID=America/Los_Angeles:20291013T120000
DTSTAMP:20260423T082924
CREATED:20240119T224046Z
LAST-MODIFIED:20260325T213611Z
UID:10026390-1886576400-1886587200@wp.presidio.gov
SUMMARY:Presidio Habitat Stewards (Every Saturday)
DESCRIPTION:
URL:https://presidio.gov/explore/events/presidio-habitat-stewards-every-saturday/2029-10-13/
END:VEVENT
BEGIN:VEVENT
DTSTART;TZID=America/Los_Angeles:20291013T113000
DTEND;TZID=America/Los_Angeles:20291013T144500
DTSTAMP:20260423T082924
CREATED:20250513T224210Z
LAST-MODIFIED:20251007T222559Z
UID:10027381-1886585400-1886597100@wp.presidio.gov
SUMMARY:Fort Point History Talk
DESCRIPTION:
URL:https://presidio.gov/explore/events/fort-point-history-2-2/2029-10-13/
END:VEVENT
BEGIN:VEVENT
DTSTART;TZID=America/Los_Angeles:20291013T150000
DTEND;TZID=America/Los_Angeles:20291013T153000
DTSTAMP:20260423T082924
CREATED:20251230T173738Z
LAST-MODIFIED:20251230T173738Z
UID:10032079-1886598000-1886599800@wp.presidio.gov
SUMMARY:Park Ranger Campfire Talks
DESCRIPTION:
URL:https://presidio.gov/explore/events/park-ranger-campfire-talks-2/2029-10-13/
END:VEVENT
BEGIN:VEVENT
DTSTART;TZID=America/Los_Angeles:20291014T113000
DTEND;TZID=America/Los_Angeles:20291014T144500
DTSTAMP:20260423T082924
CREATED:20250513T224210Z
LAST-MODIFIED:20251007T222559Z
UID:10027382-1886671800-1886683500@wp.presidio.gov
SUMMARY:Fort Point History Talk
DESCRIPTION:
URL:https://presidio.gov/explore/events/fort-point-history-2-2/2029-10-14/
END:VEVENT
BEGIN:VEVENT
DTSTART;TZID=America/Los_Angeles:20291014T150000
DTEND;TZID=America/Los_Angeles:20291014T153000
DTSTAMP:20260423T082924
CREATED:20251230T173738Z
LAST-MODIFIED:20251230T173738Z
UID:10032080-1886684400-1886686200@wp.presidio.gov
SUMMARY:Park Ranger Campfire Talks
DESCRIPTION:
URL:https://presidio.gov/explore/events/park-ranger-campfire-talks-2/2029-10-14/
END:VEVENT
BEGIN:VEVENT
DTSTART;TZID=America/Los_Angeles:20291015T150000
DTEND;TZID=America/Los_Angeles:20291015T153000
DTSTAMP:20260423T082924
CREATED:20251230T173738Z
LAST-MODIFIED:20251230T173738Z
UID:10032081-1886770800-1886772600@wp.presidio.gov
SUMMARY:Park Ranger Campfire Talks
DESCRIPTION:
URL:https://presidio.gov/explore/events/park-ranger-campfire-talks-2/2029-10-15/
END:VEVENT
BEGIN:VEVENT
DTSTART;TZID=America/Los_Angeles:20291016T150000
DTEND;TZID=America/Los_Angeles:20291016T153000
DTSTAMP:20260423T082924
CREATED:20251230T173738Z
LAST-MODIFIED:20251230T173738Z
UID:10032082-1886857200-1886859000@wp.presidio.gov
SUMMARY:Park Ranger Campfire Talks
DESCRIPTION:
URL:https://presidio.gov/explore/events/park-ranger-campfire-talks-2/2029-10-16/
END:VEVENT
BEGIN:VEVENT
DTSTART;TZID=America/Los_Angeles:20291017T090000
DTEND;TZID=America/Los_Angeles:20291017T120000
DTSTAMP:20260423T082924
CREATED:20230813T135226Z
LAST-MODIFIED:20250703T160021Z
UID:10026340-1886922000-1886932800@wp.presidio.gov
SUMMARY:Volunteer: Presidio Habitat Stewards (Every 3rd Wednesday)
DESCRIPTION:
URL:https://presidio.gov/explore/events/presidio-habitat-stewards-3rd-wednesday/2029-10-17/
ATTACH;FMTTYPE=image/jpeg:https://wp.presidio.gov/wp-content/uploads/2023/07/PRSF_160118_MDu__0570_2x1-1.jpg
END:VEVENT
BEGIN:VEVENT
DTSTART;TZID=America/Los_Angeles:20291017T090000
DTEND;TZID=America/Los_Angeles:20291017T120000
DTSTAMP:20260423T082924
CREATED:20250702T235033Z
LAST-MODIFIED:20251010T232052Z
UID:10029480-1886922000-1886932800@wp.presidio.gov
SUMMARY:Volunteer: San Francisco Habitat Stewards (Every Wednesday)
DESCRIPTION:
URL:https://presidio.gov/explore/events/san-francisco-habitat-stewards-wednesday-2/2029-10-17/
ATTACH;FMTTYPE=image/jpeg:https://wp.presidio.gov/wp-content/uploads/2023/07/ROHI_150119_MDu_1-311.jpg
END:VEVENT
BEGIN:VEVENT
DTSTART;TZID=America/Los_Angeles:20291017T150000
DTEND;TZID=America/Los_Angeles:20291017T153000
DTSTAMP:20260423T082924
CREATED:20251230T173738Z
LAST-MODIFIED:20251230T173738Z
UID:10032083-1886943600-1886945400@wp.presidio.gov
SUMMARY:Park Ranger Campfire Talks
DESCRIPTION:
URL:https://presidio.gov/explore/events/park-ranger-campfire-talks-2/2029-10-17/
END:VEVENT
BEGIN:VEVENT
DTSTART;TZID=America/Los_Angeles:20291018T130000
DTEND;TZID=America/Los_Angeles:20291018T160000
DTSTAMP:20260423T082924
CREATED:20230813T122743Z
LAST-MODIFIED:20251010T232136Z
UID:10030064-1887022800-1887033600@wp.presidio.gov
SUMMARY:Volunteer: San Francisco Habitat Stewards (Every Thursday)
DESCRIPTION:
URL:https://presidio.gov/explore/events/san-francisco-habitat-stewards-saturday/2029-10-18/
END:VEVENT
BEGIN:VEVENT
DTSTART;TZID=America/Los_Angeles:20291018T150000
DTEND;TZID=America/Los_Angeles:20291018T153000
DTSTAMP:20260423T082924
CREATED:20251230T173738Z
LAST-MODIFIED:20251230T173738Z
UID:10032084-1887030000-1887031800@wp.presidio.gov
SUMMARY:Park Ranger Campfire Talks
DESCRIPTION:
URL:https://presidio.gov/explore/events/park-ranger-campfire-talks-2/2029-10-18/
END:VEVENT
BEGIN:VEVENT
DTSTART;TZID=America/Los_Angeles:20291019T090000
DTEND;TZID=America/Los_Angeles:20291019T120000
DTSTAMP:20260423T082924
CREATED:20260110T003535Z
LAST-MODIFIED:20260409T230930Z
UID:10029963-1887094800-1887105600@wp.presidio.gov
SUMMARY:Volunteer: Presidio Forest Stewards (Friday)
DESCRIPTION:
URL:https://presidio.gov/explore/events/presidio-forest-stewards-3/2029-10-19/
END:VEVENT
BEGIN:VEVENT
DTSTART;TZID=America/Los_Angeles:20291019T113000
DTEND;TZID=America/Los_Angeles:20291019T144500
DTSTAMP:20260423T082924
CREATED:20250513T224210Z
LAST-MODIFIED:20251007T222559Z
UID:10027384-1887103800-1887115500@wp.presidio.gov
SUMMARY:Fort Point History Talk
DESCRIPTION:
URL:https://presidio.gov/explore/events/fort-point-history-2-2/2029-10-19/
END:VEVENT
BEGIN:VEVENT
DTSTART;TZID=America/Los_Angeles:20291019T150000
DTEND;TZID=America/Los_Angeles:20291019T153000
DTSTAMP:20260423T082924
CREATED:20251230T173738Z
LAST-MODIFIED:20251230T173738Z
UID:10032085-1887116400-1887118200@wp.presidio.gov
SUMMARY:Park Ranger Campfire Talks
DESCRIPTION:
URL:https://presidio.gov/explore/events/park-ranger-campfire-talks-2/2029-10-19/
END:VEVENT
BEGIN:VEVENT
DTSTART;TZID=America/Los_Angeles:20291020T090000
DTEND;TZID=America/Los_Angeles:20291020T120000
DTSTAMP:20260423T082924
CREATED:20240119T224046Z
LAST-MODIFIED:20260325T213611Z
UID:10026391-1887181200-1887192000@wp.presidio.gov
SUMMARY:Presidio Habitat Stewards (Every Saturday)
DESCRIPTION:
URL:https://presidio.gov/explore/events/presidio-habitat-stewards-every-saturday/2029-10-20/
END:VEVENT
BEGIN:VEVENT
DTSTART;TZID=America/Los_Angeles:20291020T113000
DTEND;TZID=America/Los_Angeles:20291020T144500
DTSTAMP:20260423T082924
CREATED:20250513T224210Z
LAST-MODIFIED:20251007T222559Z
UID:10027385-1887190200-1887201900@wp.presidio.gov
SUMMARY:Fort Point History Talk
DESCRIPTION:
URL:https://presidio.gov/explore/events/fort-point-history-2-2/2029-10-20/
END:VEVENT
BEGIN:VEVENT
DTSTART;TZID=America/Los_Angeles:20291020T150000
DTEND;TZID=America/Los_Angeles:20291020T153000
DTSTAMP:20260423T082924
CREATED:20251230T173738Z
LAST-MODIFIED:20251230T173738Z
UID:10032086-1887202800-1887204600@wp.presidio.gov
SUMMARY:Park Ranger Campfire Talks
DESCRIPTION:
URL:https://presidio.gov/explore/events/park-ranger-campfire-talks-2/2029-10-20/
END:VEVENT
BEGIN:VEVENT
DTSTART;TZID=America/Los_Angeles:20291021T113000
DTEND;TZID=America/Los_Angeles:20291021T144500
DTSTAMP:20260423T082924
CREATED:20250513T224210Z
LAST-MODIFIED:20251007T222559Z
UID:10027386-1887276600-1887288300@wp.presidio.gov
SUMMARY:Fort Point History Talk
DESCRIPTION:
URL:https://presidio.gov/explore/events/fort-point-history-2-2/2029-10-21/
END:VEVENT
BEGIN:VEVENT
DTSTART;TZID=America/Los_Angeles:20291021T150000
DTEND;TZID=America/Los_Angeles:20291021T153000
DTSTAMP:20260423T082924
CREATED:20251230T173738Z
LAST-MODIFIED:20251230T173738Z
UID:10032087-1887289200-1887291000@wp.presidio.gov
SUMMARY:Park Ranger Campfire Talks
DESCRIPTION:
URL:https://presidio.gov/explore/events/park-ranger-campfire-talks-2/2029-10-21/
END:VEVENT
BEGIN:VEVENT
DTSTART;TZID=America/Los_Angeles:20291022T150000
DTEND;TZID=America/Los_Angeles:20291022T153000
DTSTAMP:20260423T082924
CREATED:20251230T173738Z
LAST-MODIFIED:20251230T173738Z
UID:10032088-1887375600-1887377400@wp.presidio.gov
SUMMARY:Park Ranger Campfire Talks
DESCRIPTION:
URL:https://presidio.gov/explore/events/park-ranger-campfire-talks-2/2029-10-22/
END:VEVENT
BEGIN:VEVENT
DTSTART;TZID=America/Los_Angeles:20291023T150000
DTEND;TZID=America/Los_Angeles:20291023T153000
DTSTAMP:20260423T082924
CREATED:20251230T173738Z
LAST-MODIFIED:20251230T173738Z
UID:10032089-1887462000-1887463800@wp.presidio.gov
SUMMARY:Park Ranger Campfire Talks
DESCRIPTION:
URL:https://presidio.gov/explore/events/park-ranger-campfire-talks-2/2029-10-23/
END:VEVENT
BEGIN:VEVENT
DTSTART;TZID=America/Los_Angeles:20291024T090000
DTEND;TZID=America/Los_Angeles:20291024T120000
DTSTAMP:20260423T082924
CREATED:20250702T235033Z
LAST-MODIFIED:20251010T232052Z
UID:10029481-1887526800-1887537600@wp.presidio.gov
SUMMARY:Volunteer: San Francisco Habitat Stewards (Every Wednesday)
DESCRIPTION:
URL:https://presidio.gov/explore/events/san-francisco-habitat-stewards-wednesday-2/2029-10-24/
ATTACH;FMTTYPE=image/jpeg:https://wp.presidio.gov/wp-content/uploads/2023/07/ROHI_150119_MDu_1-311.jpg
END:VEVENT
BEGIN:VEVENT
DTSTART;TZID=America/Los_Angeles:20291024T150000
DTEND;TZID=America/Los_Angeles:20291024T153000
DTSTAMP:20260423T082924
CREATED:20251230T173738Z
LAST-MODIFIED:20251230T173738Z
UID:10032090-1887548400-1887550200@wp.presidio.gov
SUMMARY:Park Ranger Campfire Talks
DESCRIPTION:
URL:https://presidio.gov/explore/events/park-ranger-campfire-talks-2/2029-10-24/
END:VEVENT
BEGIN:VEVENT
DTSTART;TZID=America/Los_Angeles:20291025T130000
DTEND;TZID=America/Los_Angeles:20291025T160000
DTSTAMP:20260423T082924
CREATED:20230813T122743Z
LAST-MODIFIED:20251010T232136Z
UID:10030065-1887627600-1887638400@wp.presidio.gov
SUMMARY:Volunteer: San Francisco Habitat Stewards (Every Thursday)
DESCRIPTION:
URL:https://presidio.gov/explore/events/san-francisco-habitat-stewards-saturday/2029-10-25/
END:VEVENT
END:VCALENDAR